BEGIN:VCALENDAR
VERSION:2.0
PRODID:-//ChamberMaster//Event Calendar 2.0//EN
METHOD:PUBLISH
X-PUBLISHED-TTL:P3D
REFRESH-INTERVAL:P3D
CALSCALE:GREGORIAN
BEGIN:VEVENT
DTSTART:20061010T203000Z
DTEND:20061011T003000Z
X-MICROSOFT-CDO-ALLDAYEVENT:FALSE
SUMMARY:Relay For Life of Brownsburg Kick-off Event
DESCRIPTION:
X-ALT-DESC;FMTTYPE=text/html:
LOCATION:at Arby's on SR 267. Anyone interested in learning more about the event or registering a team may attend the kick-off event\, email: brownsburgrelay@indy.rr.com\, or contact Lori at 714-8463.
UID:e.2778.318
SEQUENCE:3
DTSTAMP:20260424T085544Z
URL:https://www.brownsburg.com/events/details/relay-for-life-of-brownsburg-kick-off-event-10-10-2006-318
END:VEVENT

END:VCALENDAR
