BEGIN:VCALENDAR
VERSION:2.0
PRODID:-//ChamberMaster//Event Calendar 2.0//EN
METHOD:PUBLISH
X-PUBLISHED-TTL:P3D
REFRESH-INTERVAL:P3D
CALSCALE:GREGORIAN
BEGIN:VEVENT
DTSTART:20060927T150000Z
DTEND:20060927T150000Z
X-MICROSOFT-CDO-ALLDAYEVENT:FALSE
SUMMARY:Roland Retirement Club & Brownsburg Parks and Recreation Benefit Golf Outing
DESCRIPTION:
X-ALT-DESC;FMTTYPE=text/html:
LOCATION:5197 Fairway Drive\, Avon\, IN 46123 at Prestwick Country Club. Contact Cory at 852-5736 or Chris Ann at 858-4172 ext 34 for sponsorship opportunities and additional information.
UID:e.2778.317
SEQUENCE:3
DTSTAMP:20260424T100657Z
URL:https://www.brownsburg.com/events/details/roland-retirement-club-brownsburg-parks-and-recreation-benefit-golf-outing-09-27-2006-317
END:VEVENT

END:VCALENDAR
