BEGIN:VCALENDAR
VERSION:2.0
PRODID:-//ChamberMaster//Event Calendar 2.0//EN
METHOD:PUBLISH
X-PUBLISHED-TTL:P3D
REFRESH-INTERVAL:P3D
CALSCALE:GREGORIAN
BEGIN:VEVENT
DTSTART:20070626T220000Z
DTEND:20070627T000000Z
X-MICROSOFT-CDO-ALLDAYEVENT:FALSE
SUMMARY:Rural Entrepreneur Network
DESCRIPTION:
X-ALT-DESC;FMTTYPE=text/html:
LOCATION:Hendricks County Extention Office\, Danville\, IN 46122 For Directons visit www.ces.purdue.edu/Hendricks/directions.htm
UID:e.2778.452
SEQUENCE:3
DTSTAMP:20260423T212900Z
URL:https://www.brownsburg.com/events/details/rural-entrepreneur-network-06-26-2007-452
END:VEVENT

END:VCALENDAR
