BEGIN:VCALENDAR
VERSION:2.0
PRODID:-//ChamberMaster//Event Calendar 2.0//EN
METHOD:PUBLISH
X-PUBLISHED-TTL:P3D
REFRESH-INTERVAL:P3D
CALSCALE:GREGORIAN
BEGIN:VEVENT
DTSTART:20060311T140000Z
DTEND:20060311T203000Z
X-MICROSOFT-CDO-ALLDAYEVENT:FALSE
SUMMARY:Safe Sitter Class
DESCRIPTION:Safe Sitter is a medically accurate\, hands-on\, class that teaches boys and girls ages 11 to 13 how to handle emergencies when caring for children.  Safe sitters learn: what to do if a child is choking\, safety for the sitter\, how to call for emergency help\, babysitting business skills\, basic child care skills like diapering and feeding\, how to entertain children and keep them safe\, preventing behavior problems and injury prevention techniques.  \n\nSpace is limited for the one-day class\, so register soon.  Students must be 11 to 13 years old by the date of the class.  The cost is $45 per student.  Students receive a Safe Sitter manual and certification card upon completion of the class.\n\nClasses are offered on the second Saturday of each month excluding Holidays and the month of May.  Class times:  9am-3:30pm.  Additional classes can be arranged for your organization.\n\nVisit our website at www.brownsburgfire.org to register or call 852-1190 for more information
X-ALT-DESC;FMTTYPE=text/html:Safe Sitter is a medically accurate\, hands-on\, class that teaches boys and girls ages 11 to 13 how to handle emergencies when caring for children.  Safe sitters learn: what to do if a child is choking\, safety for the sitter\, how to call for emergency help\, babysitting business skills\, basic child care skills like diapering and feeding\, how to entertain children and keep them safe\, preventing behavior problems and injury prevention techniques.  \n\nSpace is limited for the one-day class\, so register soon.  Students must be 11 to 13 years old by the date of the class.  The cost is $45 per student.  Students receive a Safe Sitter manual and certification card upon completion of the class.\n\nClasses are offered on the second Saturday of each month excluding Holidays and the month of May.  Class times:  9am-3:30pm.  Additional classes can be arranged for your organization.\n\nVisit our website at www.brownsburgfire.org to register or call 852-1190 for more information
LOCATION:470 East Northfield Drive\, Brownsburg\, IN 46112 Brownsburg Fire Territory Headquarters\, 470 E. Northfield Drive\, Brownsburg. Registration is required! Space is limited! Must be between 11 and 13 years of age. Visit www.brownsburgfire.org or call 852-1190 to save your space!
UID:e.2778.90
SEQUENCE:3
DTSTAMP:20260424T203556Z
URL:https://www.brownsburg.com/events/details/safe-sitter-class-03-11-2006-90
END:VEVENT

END:VCALENDAR
