BEGIN:VCALENDAR
VERSION:2.0
PRODID:-//ChamberMaster//Event Calendar 2.0//EN
METHOD:PUBLISH
X-PUBLISHED-TTL:P3D
REFRESH-INTERVAL:P3D
CALSCALE:GREGORIAN
BEGIN:VEVENT
DTSTART:20060408T130000Z
DTEND:20060408T193000Z
X-MICROSOFT-CDO-ALLDAYEVENT:FALSE
SUMMARY:Safe Sitter Class
DESCRIPTION:Safe Sitter is a medically accurate\, hands-on\, class that teachers boys and girls ages 11 to 13 how to handle emergencies when caring for children.\n\nSafe Sitters learn: what to do if a child is choking\, safety for the sitter\, how to call for emergency help\, babysitting business skills\, basic child care skills\; diapering\; feeding\, etc.\, how to entertain children and keep them safe\, preventing behavior problems\, injury prevention techniques.\n\nSpace is limited for the one-day class\, so register soon.  Students must be 11 to 13 years old by date of the class.  Students should bring a sack lunch.  The cost is $45 per student.  Students receive a Safe Sitter manual and certification card upon completion of the class.\n\nVisit our website at www.brownsburgfire.org to register or call 852-1190 for more informaiton.
X-ALT-DESC;FMTTYPE=text/html:Safe Sitter is a medically accurate\, hands-on\, class that teachers boys and girls ages 11 to 13 how to handle emergencies when caring for children.\n\nSafe Sitters learn: what to do if a child is choking\, safety for the sitter\, how to call for emergency help\, babysitting business skills\, basic child care skills\; diapering\; feeding\, etc.\, how to entertain children and keep them safe\, preventing behavior problems\, injury prevention techniques.\n\nSpace is limited for the one-day class\, so register soon.  Students must be 11 to 13 years old by date of the class.  Students should bring a sack lunch.  The cost is $45 per student.  Students receive a Safe Sitter manual and certification card upon completion of the class.\n\nVisit our website at www.brownsburgfire.org to register or call 852-1190 for more informaiton.
LOCATION:470 East Northfield Drive\, Brownsburg\, IN 46112 Brownsburg Fire Territory\, 470 E. Northfield Dr. Space is limited. Call to reserve your 11 to 13 years old place! 852-1190
UID:e.2778.170
SEQUENCE:3
DTSTAMP:20260424T172953Z
URL:https://www.brownsburg.com/events/details/safe-sitter-class-04-08-2006-170
END:VEVENT

END:VCALENDAR
