BEGIN:VCALENDAR
VERSION:2.0
PRODID:-//ChamberMaster//Event Calendar 2.0//EN
METHOD:PUBLISH
X-PUBLISHED-TTL:P3D
REFRESH-INTERVAL:P3D
CALSCALE:GREGORIAN
BEGIN:VEVENT
DTSTART:20051210T230000Z
DTEND:20051211T000000Z
X-MICROSOFT-CDO-ALLDAYEVENT:FALSE
SUMMARY:Santa's House
DESCRIPTION:Santa's House will be open for the kids to come tell him what is on their Christmas Wish List the first three Saturday evenings in December.  The house will be open from 6-8pm.
X-ALT-DESC;FMTTYPE=text/html:Santa's House will be open for the kids to come tell him what is on their Christmas Wish List the first three Saturday evenings in December.  The house will be open from 6-8pm.
LOCATION:December 10 from 6-7pm and December 17 from 6-8pm in Arbuckle Acres Park\, 200 N. Green Street.
UID:e.2778.55
SEQUENCE:3
DTSTAMP:20260424T234558Z
URL:https://www.brownsburg.com/events/details/santa-s-house-12-10-2005-55
END:VEVENT

END:VCALENDAR
