BEGIN:VCALENDAR
VERSION:2.0
PRODID:-//ChamberMaster//Event Calendar 2.0//EN
METHOD:PUBLISH
X-PUBLISHED-TTL:P3D
REFRESH-INTERVAL:P3D
CALSCALE:GREGORIAN
BEGIN:VEVENT
DTSTART:20051217T230000Z
DTEND:20051218T010000Z
X-MICROSOFT-CDO-ALLDAYEVENT:FALSE
SUMMARY:Santa's House
DESCRIPTION:
X-ALT-DESC;FMTTYPE=text/html:
LOCATION:From 6-8pm in Arbuckle Acres Park\, 200 N. Green Street.
UID:e.2778.68
SEQUENCE:3
DTSTAMP:20260424T234644Z
URL:https://www.brownsburg.com/events/details/santa-s-house-12-17-2005-68
END:VEVENT

END:VCALENDAR
