BEGIN:VCALENDAR
VERSION:2.0
PRODID:-//ChamberMaster//Event Calendar 2.0//EN
METHOD:PUBLISH
X-PUBLISHED-TTL:P3D
REFRESH-INTERVAL:P3D
CALSCALE:GREGORIAN
BEGIN:VEVENT
DTSTART:20051105T140000Z
DTEND:20051105T210000Z
X-MICROSOFT-CDO-ALLDAYEVENT:FALSE
SUMMARY:Santa's Shoppe Arts & Crafts Show
DESCRIPTION:The 28th Annual Santa's Shoppe Arts & Crafts Show will take place on November 5th\, 2005\, from 9am to 4pm at Brownsburg's West Middle School.   Santa's Shoppe showcases over 130 booths of quality arts and crafts.  The show is handicap accessible.  Admission is $2.00 per person.  No strollers please.
X-ALT-DESC;FMTTYPE=text/html:The 28th Annual Santa's Shoppe Arts & Crafts Show will take place on November 5th\, 2005\, from 9am to 4pm at Brownsburg's West Middle School.   Santa's Shoppe showcases over 130 booths of quality arts and crafts.  The show is handicap accessible.  Admission is $2.00 per person.  No strollers please. 
LOCATION:1555 S. Odell Street\, Brownsburg\, IN 46112 West Middle School\; 1555 S. Odell Street.
UID:e.2778.51
SEQUENCE:3
DTSTAMP:20260425T013343Z
URL:https://www.brownsburg.com/events/details/santa-s-shoppe-arts-crafts-show-11-05-2005-51
END:VEVENT

END:VCALENDAR
