BEGIN:VCALENDAR
VERSION:2.0
PRODID:-//ChamberMaster//Event Calendar 2.0//EN
METHOD:PUBLISH
X-PUBLISHED-TTL:P3D
REFRESH-INTERVAL:P3D
CALSCALE:GREGORIAN
BEGIN:VEVENT
DTSTART:20060523T223000Z
DTEND:20060523T223000Z
X-MICROSOFT-CDO-ALLDAYEVENT:FALSE
SUMMARY:School Board Meeting with Task Force
DESCRIPTION:
X-ALT-DESC;FMTTYPE=text/html:
LOCATION:444 East Tilden Drive\, Brownsburg\, IN 46112 at the BCSC Administration Building\; 444 East Tilden.
UID:e.2778.204
SEQUENCE:3
DTSTAMP:20260424T160126Z
URL:https://www.brownsburg.com/events/details/school-board-meeting-with-task-force-05-23-2006-204
END:VEVENT

END:VCALENDAR
