BEGIN:VCALENDAR
VERSION:2.0
PRODID:-//ChamberMaster//Event Calendar 2.0//EN
METHOD:PUBLISH
X-PUBLISHED-TTL:P3D
REFRESH-INTERVAL:P3D
CALSCALE:GREGORIAN
BEGIN:VEVENT
DTSTART:20060920T153000Z
DTEND:20060920T153000Z
X-MICROSOFT-CDO-ALLDAYEVENT:FALSE
SUMMARY:September Chamber Luncheon
DESCRIPTION:
X-ALT-DESC;FMTTYPE=text/html:
LOCATION:470 East Northfield Drive\, Brownsburg\, IN 46112 At Fire Territory Bldg\; 470 E. Northfield Dr. Come listen to Scott Black and the Boo Crew discuss the 2006 Haunts of Hidden River activities.
UID:e.2778.289
SEQUENCE:3
DTSTAMP:20260424T095942Z
URL:https://www.brownsburg.com/events/details/september-chamber-luncheon-09-20-2006-289
END:VEVENT

END:VCALENDAR
