BEGIN:VCALENDAR
VERSION:2.0
PRODID:-//ChamberMaster//Event Calendar 2.0//EN
METHOD:PUBLISH
X-PUBLISHED-TTL:P3D
REFRESH-INTERVAL:P3D
CALSCALE:GREGORIAN
BEGIN:VEVENT
DTSTART:20060226T180000Z
DTEND:20060226T220000Z
X-MICROSOFT-CDO-ALLDAYEVENT:FALSE
SUMMARY:Sheltering Wings Clothing Drive
DESCRIPTION:
X-ALT-DESC;FMTTYPE=text/html:
LOCATION:6850 Four Winds Court\, Brownsburg\, IN 46112 Take 267 N. to 700 N. Turn left on 700 (across from State Bank of Lizton). Turn right into the Windridge subdivision. Take the first left and their home is the last house on the right.
UID:e.2778.78
SEQUENCE:3
DTSTAMP:20260424T221555Z
URL:https://www.brownsburg.com/events/details/sheltering-wings-clothing-drive-02-26-2006-78
END:VEVENT

END:VCALENDAR
