BEGIN:VCALENDAR
VERSION:2.0
PRODID:-//ChamberMaster//Event Calendar 2.0//EN
METHOD:PUBLISH
X-PUBLISHED-TTL:P3D
REFRESH-INTERVAL:P3D
CALSCALE:GREGORIAN
BEGIN:VEVENT
DTSTART:20070616T120000Z
DTEND:20070616T120000Z
X-MICROSOFT-CDO-ALLDAYEVENT:FALSE
SUMMARY:Sheltering Wings Foundation Golf Outing
DESCRIPTION:
X-ALT-DESC;FMTTYPE=text/html:
LOCATION:Trophy Club\, Lebanon\, IN
UID:e.2778.454
SEQUENCE:3
DTSTAMP:20260423T213233Z
URL:https://www.brownsburg.com/events/details/sheltering-wings-foundation-golf-outing-06-16-2007-454
END:VEVENT

END:VCALENDAR
