BEGIN:VCALENDAR
VERSION:2.0
PRODID:-//ChamberMaster//Event Calendar 2.0//EN
METHOD:PUBLISH
X-PUBLISHED-TTL:P3D
REFRESH-INTERVAL:P3D
CALSCALE:GREGORIAN
BEGIN:VEVENT
DTSTART:20070929T123000Z
DTEND:20070929T190000Z
X-MICROSOFT-CDO-ALLDAYEVENT:FALSE
SUMMARY:Sheltering Wings/Pair Up Misssion
DESCRIPTION:
X-ALT-DESC;FMTTYPE=text/html:
LOCATION:
UID:e.2778.487
SEQUENCE:3
DTSTAMP:20260423T170027Z
URL:https://www.brownsburg.com/events/details/sheltering-wings-pair-up-misssion-09-29-2007-487
END:VEVENT

END:VCALENDAR
