BEGIN:VCALENDAR
VERSION:2.0
PRODID:-//ChamberMaster//Event Calendar 2.0//EN
METHOD:PUBLISH
X-PUBLISHED-TTL:P3D
REFRESH-INTERVAL:P3D
CALSCALE:GREGORIAN
BEGIN:VEVENT
DTSTART:20060930T120000Z
DTEND:20060930T120000Z
X-MICROSOFT-CDO-ALLDAYEVENT:FALSE
SUMMARY:Sheltering Wings Walk-Me-Home 5K Walk/8K Run
DESCRIPTION:
X-ALT-DESC;FMTTYPE=text/html:
LOCATION:at Hummel Park in Plainfield. For more information visit www.shelteringwings.org or contact 745-1496. Rain or shine
UID:e.2778.257
SEQUENCE:3
DTSTAMP:20260424T100317Z
URL:https://www.brownsburg.com/events/details/sheltering-wings-walk-me-home-5k-walk-8k-run-09-30-2006-257
END:VEVENT

END:VCALENDAR
