BEGIN:VCALENDAR
VERSION:2.0
PRODID:-//ChamberMaster//Event Calendar 2.0//EN
METHOD:PUBLISH
X-PUBLISHED-TTL:P3D
REFRESH-INTERVAL:P3D
CALSCALE:GREGORIAN
BEGIN:VEVENT
DTSTART:20060909T140000Z
DTEND:20060909T140000Z
X-MICROSOFT-CDO-ALLDAYEVENT:FALSE
SUMMARY:Sherwin-Williams Grand Opening/Open House
DESCRIPTION:
X-ALT-DESC;FMTTYPE=text/html:
LOCATION:80 Garner Road\, Brownsburg\, IN 46112 80 Garner Rd. Everyone is welcome to join Sherwin-Williams for their Grand Opening celebration!
UID:e.2778.290
SEQUENCE:3
DTSTAMP:20260424T113420Z
URL:https://www.brownsburg.com/events/details/sherwin-williams-grand-opening-open-house-09-09-2006-290
END:VEVENT

END:VCALENDAR
