BEGIN:VCALENDAR
VERSION:2.0
PRODID:-//ChamberMaster//Event Calendar 2.0//EN
METHOD:PUBLISH
X-PUBLISHED-TTL:P3D
REFRESH-INTERVAL:P3D
CALSCALE:GREGORIAN
BEGIN:VEVENT
DTSTART:20061017T233000Z
DTEND:20061018T003000Z
X-MICROSOFT-CDO-ALLDAYEVENT:FALSE
SUMMARY:Siblings Without Rivalry
DESCRIPTION:
X-ALT-DESC;FMTTYPE=text/html:
LOCATION:111 Eastern Avenue\, Brownsburg\, IN 46112 at the Community and Rec Center\; 111 Eastern Avenue. Come and learn tips on how to create harmony in your home by giving children skills to get along with each other. Learn how to nuture sibling relationships and deal more effectively with teasing\, tattling and arguing. $5/member or $8/non-member. Call BPRD to reserve your spot today--858-4172.
UID:e.2778.330
SEQUENCE:3
DTSTAMP:20260424T095817Z
URL:https://www.brownsburg.com/events/details/siblings-without-rivalry-10-17-2006-330
END:VEVENT

END:VCALENDAR
