BEGIN:VCALENDAR
VERSION:2.0
PRODID:-//ChamberMaster//Event Calendar 2.0//EN
METHOD:PUBLISH
X-PUBLISHED-TTL:P3D
REFRESH-INTERVAL:P3D
CALSCALE:GREGORIAN
BEGIN:VEVENT
DTSTART:20061212T230000Z
DTEND:20061213T000000Z
X-MICROSOFT-CDO-ALLDAYEVENT:FALSE
SUMMARY:Silly Safari at the Brownsburg Community & Rec Center
DESCRIPTION:
X-ALT-DESC;FMTTYPE=text/html:
LOCATION:111 Eastern Avenue\, Brownsburg\, IN 46112 111 Eastern Ave. Do you love animals? Join us on a Silly Safari Animal Adventure. Have fun with mammals\, birds\, reptiles\, amphibians\, and bugs! Through theatre\, ineractive play and hands-on participatory learning\, we'll go on a safari adventure exploring the diverse world of animals. $10/member or $12/non-member. Call today to reserve your spot--858-4172.
UID:e.2778.327
SEQUENCE:3
DTSTAMP:20260424T072711Z
URL:https://www.brownsburg.com/events/details/silly-safari-at-the-brownsburg-community-rec-center-12-12-2006-327
END:VEVENT

END:VCALENDAR
