BEGIN:VCALENDAR
VERSION:2.0
PRODID:-//ChamberMaster//Event Calendar 2.0//EN
METHOD:PUBLISH
X-PUBLISHED-TTL:P3D
REFRESH-INTERVAL:P3D
CALSCALE:GREGORIAN
BEGIN:VEVENT
DTSTART:20061014T220000Z
DTEND:20061014T220000Z
X-MICROSOFT-CDO-ALLDAYEVENT:FALSE
SUMMARY:Soul'd Out at the Crown Room
DESCRIPTION:
X-ALT-DESC;FMTTYPE=text/html:
LOCATION:900 East 56th Street\, Ste. 200\, Brownsburg\, IN 46112 On the northside of East 56th and Northfield Blvd. on the second floor of the Strong Bldg. A special evening of elegant dining and Christian entertainment. For more information call 317-858-2228.
UID:e.2778.300
SEQUENCE:3
DTSTAMP:20260424T085458Z
URL:https://www.brownsburg.com/events/details/soul-d-out-at-the-crown-room-10-14-2006-300
END:VEVENT

END:VCALENDAR
