BEGIN:VCALENDAR
VERSION:2.0
PRODID:-//ChamberMaster//Event Calendar 2.0//EN
METHOD:PUBLISH
X-PUBLISHED-TTL:P3D
REFRESH-INTERVAL:P3D
CALSCALE:GREGORIAN
BEGIN:VEVENT
DTSTART:20080404T190000Z
DTEND:20080404T220000Z
X-MICROSOFT-CDO-ALLDAYEVENT:FALSE
SUMMARY:SportClips Hosting the #7 Mike Wallace Geico/SportClips Showcar
DESCRIPTION:
X-ALT-DESC;FMTTYPE=text/html:
LOCATION:321 W. Northfield Dr.\, Brownsburg\, IN 46112
UID:e.2778.536
SEQUENCE:3
DTSTAMP:20260423T070957Z
URL:https://www.brownsburg.com/events/details/sportclips-hosting-the-7-mike-wallace-geico-sportclips-showcar-04-04-2008-536
END:VEVENT

END:VCALENDAR
