BEGIN:VCALENDAR
VERSION:2.0
PRODID:-//ChamberMaster//Event Calendar 2.0//EN
METHOD:PUBLISH
X-PUBLISHED-TTL:P3D
REFRESH-INTERVAL:P3D
CALSCALE:GREGORIAN
BEGIN:VEVENT
DTSTART:20070117T163000Z
DTEND:20070117T163000Z
X-MICROSOFT-CDO-ALLDAYEVENT:FALSE
SUMMARY:State of the Town Chamber Luncheon
DESCRIPTION:
X-ALT-DESC;FMTTYPE=text/html:
LOCATION:470 E Northfield Drive\, Brownsburg\, IN 46112 Fire Territory Building 470 E Northfield Drive Come hear 2007 plans for the Town of Brownsburg. $10.00per person rsvp to 852-7885
UID:e.2778.398
SEQUENCE:3
DTSTAMP:20260424T054912Z
URL:https://www.brownsburg.com/events/details/state-of-the-town-chamber-luncheon-01-17-2007-398
END:VEVENT

END:VCALENDAR
