BEGIN:VCALENDAR
VERSION:2.0
PRODID:-//ChamberMaster//Event Calendar 2.0//EN
METHOD:PUBLISH
X-PUBLISHED-TTL:P3D
REFRESH-INTERVAL:P3D
CALSCALE:GREGORIAN
BEGIN:VEVENT
DTSTART:20080711T001500Z
DTEND:20080711T001500Z
X-MICROSOFT-CDO-ALLDAYEVENT:FALSE
SUMMARY:Symphony in the Park - ''Simply Sinatra''
DESCRIPTION:The public is encouraged to bring chairs or blankets\, food and coolers are welcomed.  Concessions will be available courtesy of Courthouse Grounds.  Fireworks will follow the performance.  Please call 745-2223 for more information.
X-ALT-DESC;FMTTYPE=text/html:The public is encouraged to bring chairs or blankets\, food and coolers are welcomed.  Concessions will be available courtesy of Courthouse Grounds.  Fireworks will follow the performance.  Please call 745-2223 for more information.
LOCATION:Ellis Park in Danville. Tickets are $12.00 in advance and $15.00 at the gate. Children six and under are free.
UID:e.2778.562
SEQUENCE:3
DTSTAMP:20260423T024103Z
URL:https://www.brownsburg.com/events/details/symphony-in-the-park-simply-sinatra-07-10-2008-562
END:VEVENT

END:VCALENDAR
