BEGIN:VCALENDAR
VERSION:2.0
PRODID:-//ChamberMaster//Event Calendar 2.0//EN
METHOD:PUBLISH
X-PUBLISHED-TTL:P3D
REFRESH-INTERVAL:P3D
CALSCALE:GREGORIAN
BEGIN:VEVENT
DTSTART;VALUE=DATE:20060713
DTEND;VALUE=DATE:20060714
TRANSP:TRANSPARENT
X-MICROSOFT-CDO-ALLDAYEVENT:TRUE
SUMMARY:Taste of Hendricks County
DESCRIPTION:
X-ALT-DESC;FMTTYPE=text/html:
LOCATION:At Primo Banquet and Conference Center\, Plainfield. Contact the Hendricks County Convention and Visitors Bureau for more information - 718-8750
UID:e.2778.165
SEQUENCE:3
DTSTAMP:20260424T125136Z
URL:https://www.brownsburg.com/events/details/taste-of-hendricks-county-07-13-2006-165
END:VEVENT

END:VCALENDAR
