BEGIN:VCALENDAR
VERSION:2.0
PRODID:-//ChamberMaster//Event Calendar 2.0//EN
METHOD:PUBLISH
X-PUBLISHED-TTL:P3D
REFRESH-INTERVAL:P3D
CALSCALE:GREGORIAN
BEGIN:VEVENT
DTSTART:20181211T140000Z
DTEND:20181211T153000Z
X-MICROSOFT-CDO-ALLDAYEVENT:FALSE
SUMMARY:Tech Tuesday - Creating your Marketing Plan for 2019
DESCRIPTION:Doing business without a marketing plan is like driving without a map. You may get to your destination eventually but you risk making time-consuming and costly errors along the way. We will employ a simple 4-step method to create a plan that can focus your marketing efforts in 2019.
X-ALT-DESC;FMTTYPE=text/html:<span style="color:rgb(29\, 33\, 41)\; font-family:helvetica\,arial\,sans-serif\; font-size:14px">Doing business without a marketing plan is like driving without a map. You may get to your destination&mdash\;eventually&mdash\;but you risk making time-consuming and costly errors along the way. We will employ a simple 4-step method to create a plan that can focus your marketing efforts in 2019.</span>
LOCATION:Level Two Inc
UID:e.2778.4487
SEQUENCE:3
DTSTAMP:20260423T065648Z
URL:https://www.brownsburg.com/events/details/tech-tuesday-creating-your-marketing-plan-for-2019-4487
END:VEVENT

END:VCALENDAR
