BEGIN:VCALENDAR
VERSION:2.0
PRODID:-//ChamberMaster//Event Calendar 2.0//EN
METHOD:PUBLISH
X-PUBLISHED-TTL:P3D
REFRESH-INTERVAL:P3D
CALSCALE:GREGORIAN
BEGIN:VEVENT
DTSTART;VALUE=DATE:20061028
DTEND;VALUE=DATE:20061029
TRANSP:TRANSPARENT
X-MICROSOFT-CDO-ALLDAYEVENT:TRUE
SUMMARY:The Amazing Kreskin at Brownsburg High School
DESCRIPTION:At 11 a.m. Oct. 28\, the Brownsburg High School cafeteria will be the setting for Kreskin's Intuitive COPS Observational Preparedness Seminar\, a new program designed to share his special insight with law enforcement officials. Attendance at this seminar is free for law enforcement\, judicial\, fire\, police\, attorneys\, and teachers.\n\nA 7 p.m. performance that same evening at the high school is open to anyone and a portion of those proceeds will go to BHS.\n\nTickets for the public performance are available at Brownsburg High School\, or by calling 852-2258 or 462-5848. For more information on the free ICOPS seminar\, visit the website at www.ICOPS.net.
X-ALT-DESC;FMTTYPE=text/html:At 11 a.m. Oct. 28\, the Brownsburg High School cafeteria will be the setting for Kreskin's Intuitive COPS Observational Preparedness Seminar\, a new program designed to share his special insight with law enforcement officials. Attendance at this seminar is free for law enforcement\, judicial\, fire\, police\, attorneys\, and teachers.\n\nA 7 p.m. performance that same evening at the high school is open to anyone and a portion of those proceeds will go to BHS.\n\nTickets for the public performance are available at Brownsburg High School\, or by calling 852-2258 or 462-5848. For more information on the free ICOPS seminar\, visit the website at www.ICOPS.net.
LOCATION:1000 S. Odell\, Brownsburg\, IN 46112 At 11 a.m. Oct. 28\, the Brownsburg High School cafeteria will be the setting for Kreskin’s Intuitive COPS Observational Preparedness Seminar\, a new program designed to share his special insight with law enforcement officials. Attendance at this seminar is free for law enforcement\, judicial\, fire\, police\, attorneys\, and teachers. A 7 p.m. performance that same evening at the high school is open to anyone and a portion of those proceeds will go to BHS. Tickets for the public performance are available at Brownsburg High School\, or by calling 852-2258 or 462-5848. For more information on the free ICOPS seminar\, visit the website at www.ICOPS.net.
UID:e.2778.368
SEQUENCE:3
DTSTAMP:20260424T085545Z
URL:https://www.brownsburg.com/events/details/the-amazing-kreskin-at-brownsburg-high-school-10-28-2006-368
END:VEVENT

END:VCALENDAR
