BEGIN:VCALENDAR
VERSION:2.0
PRODID:-//ChamberMaster//Event Calendar 2.0//EN
METHOD:PUBLISH
X-PUBLISHED-TTL:P3D
REFRESH-INTERVAL:P3D
CALSCALE:GREGORIAN
BEGIN:VEVENT
DTSTART:20070519T220000Z
DTEND:20070519T220000Z
X-MICROSOFT-CDO-ALLDAYEVENT:FALSE
SUMMARY:The Crown Room/Big Band Dinner & Dance Sat. May\, 19th @ 6:00pm
DESCRIPTION:
X-ALT-DESC;FMTTYPE=text/html:
LOCATION:
UID:e.2778.447
SEQUENCE:3
DTSTAMP:20260423T224753Z
URL:https://www.brownsburg.com/events/details/the-crown-room-big-band-dinner-dance-sat-may-19th-6-00pm-05-19-2007-447
END:VEVENT

END:VCALENDAR
