BEGIN:VCALENDAR
VERSION:2.0
PRODID:-//ChamberMaster//Event Calendar 2.0//EN
METHOD:PUBLISH
X-PUBLISHED-TTL:P3D
REFRESH-INTERVAL:P3D
CALSCALE:GREGORIAN
BEGIN:VEVENT
DTSTART:20060708T220000Z
DTEND:20060708T220000Z
X-MICROSOFT-CDO-ALLDAYEVENT:FALSE
SUMMARY:The Crown Room presents The Ruppes a Southern Gospel Group
DESCRIPTION:Brownsburg\, IN (June 22\, 2006) - Roy and Judy Strong\, founding owners of Independent Associates\, Inc.\, Roy M. Strong Wealth Advisory Group\, & The Crown Room are excited to bring The Ruppes to the stage of The Crown Room Dinner Theater for an evening performance on Saturday\, July 8th\, 2006.  \nDoors will open at 6:00 pm\, Dinner will begin at 6:30 pm\, and the opening band will go onstage at 7:15pm.  Our matinee with Woody Wright opens at 11:00 am\, lunch at 11:30 am\, and he starts on stage at 12:15pm.   \n\nThe Strong's are very excited about the quality of performers that will be coming through their venue\, as many are straight from the stages of Branson and are well known and loved on the Southern Gospel Music scene.  The remaining 2006 season will host outstanding Southern Gospel talent such as Forgiven Trio\, Soul'd Out Quartet\, Woody Wright & A special Christmas program by the Imperials.  \n\nReturning in 2007 will be The Collingsworth Family\, The Rick Webb Trio The Whisnants\, The Chuck Wagon Gang\, Gold City\, Clifton Jansky\, Stella Parton\, and many more! For more information about these and future performances\, to purchase tickets and for a chance to win a set of free tickets\, please visit us on the web at www.strongcrownroom.com or call Dorothy at 317.858.2228.  Complete up-to-date listings are available on our web site!
X-ALT-DESC;FMTTYPE=text/html:Brownsburg\, IN (June 22\, 2006) - Roy and Judy Strong\, founding owners of Independent Associates\, Inc.\, Roy M. Strong Wealth Advisory Group\, & The Crown Room are excited to bring The Ruppes to the stage of The Crown Room Dinner Theater for an evening performance on Saturday\, July 8th\, 2006.  \nDoors will open at 6:00 pm\, Dinner will begin at 6:30 pm\, and the opening band will go onstage at 7:15pm.  Our matinee with Woody Wright opens at 11:00 am\, lunch at 11:30 am\, and he starts on stage at 12:15pm.   \n\nThe Strong's are very excited about the quality of performers that will be coming through their venue\, as many are straight from the stages of Branson and are well known and loved on the Southern Gospel Music scene.  The remaining 2006 season will host outstanding Southern Gospel talent such as Forgiven Trio\, Soul'd Out Quartet\, Woody Wright & A special Christmas program by the Imperials.  \n\nReturning in 2007 will be The Collingsworth Family\, The Rick Webb Trio The Whisnants\, The Chuck Wagon Gang\, Gold City\, Clifton Jansky\, Stella Parton\, and many more! For more information about these and future performances\, to purchase tickets and for a chance to win a set of free tickets\, please visit us on the web at www.strongcrownroom.com or call Dorothy at 317.858.2228.  Complete up-to-date listings are available on our web site!\n\n
LOCATION:900 East 56th Street\, Ste. 200\, Brownsburg\, IN 46112 Doors will open at 6:00 pm\, Dinner will begin at 6:30 pm\, and the opening band will go onstage at 7:15pm. Our matinee with Woody Wright opens at 11:00 am\, lunch at 11:30 am\, and he starts on stage at 12:15pm.
UID:e.2778.277
SEQUENCE:3
DTSTAMP:20260424T125644Z
URL:https://www.brownsburg.com/events/details/the-crown-room-presents-the-ruppes-a-southern-gospel-group-07-08-2006-277
END:VEVENT

END:VCALENDAR
