BEGIN:VCALENDAR
VERSION:2.0
PRODID:-//ChamberMaster//Event Calendar 2.0//EN
METHOD:PUBLISH
X-PUBLISHED-TTL:P3D
REFRESH-INTERVAL:P3D
CALSCALE:GREGORIAN
BEGIN:VEVENT
DTSTART;VALUE=DATE:20070929
DTEND;VALUE=DATE:20070930
TRANSP:TRANSPARENT
X-MICROSOFT-CDO-ALLDAYEVENT:TRUE
SUMMARY:The Crown Room/ The Brown Family Saturday\, September 29th Matinee & Evening Performances
DESCRIPTION:
X-ALT-DESC;FMTTYPE=text/html:
LOCATION:
UID:e.2778.449
SEQUENCE:3
DTSTAMP:20260423T170728Z
URL:https://www.brownsburg.com/events/details/the-crown-room-the-brown-family-saturday-september-29th-matinee-evening-performances-09-29-2007-449
END:VEVENT

END:VCALENDAR
