BEGIN:VCALENDAR
VERSION:2.0
PRODID:-//ChamberMaster//Event Calendar 2.0//EN
METHOD:PUBLISH
X-PUBLISHED-TTL:P3D
REFRESH-INTERVAL:P3D
CALSCALE:GREGORIAN
BEGIN:VEVENT
DTSTART:20070908T220000Z
DTEND:20070908T220000Z
X-MICROSOFT-CDO-ALLDAYEVENT:FALSE
SUMMARY:The Crown Room/Triumphant Quartet Saturday\, September 8th @ 6:00pm
DESCRIPTION:
X-ALT-DESC;FMTTYPE=text/html:
LOCATION:
UID:e.2778.448
SEQUENCE:3
DTSTAMP:20260423T170332Z
URL:https://www.brownsburg.com/events/details/the-crown-room-triumphant-quartet-saturday-september-8th-6-00pm-09-08-2007-448
END:VEVENT

END:VCALENDAR
