BEGIN:VCALENDAR
VERSION:2.0
PRODID:-//ChamberMaster//Event Calendar 2.0//EN
METHOD:PUBLISH
X-PUBLISHED-TTL:P3D
REFRESH-INTERVAL:P3D
CALSCALE:GREGORIAN
BEGIN:VEVENT
DTSTART;VALUE=DATE:20071013
DTEND;VALUE=DATE:20071014
TRANSP:TRANSPARENT
X-MICROSOFT-CDO-ALLDAYEVENT:TRUE
SUMMARY:The Crown Room/ Woody Wright Saturday October 13\, @ 6:00pm
DESCRIPTION:
X-ALT-DESC;FMTTYPE=text/html:
LOCATION:
UID:e.2778.450
SEQUENCE:3
DTSTAMP:20260423T170333Z
URL:https://www.brownsburg.com/events/details/the-crown-room-woody-wright-saturday-october-13-6-00pm-10-13-2007-450
END:VEVENT

END:VCALENDAR
