BEGIN:VCALENDAR
VERSION:2.0
PRODID:-//ChamberMaster//Event Calendar 2.0//EN
METHOD:PUBLISH
X-PUBLISHED-TTL:P3D
REFRESH-INTERVAL:P3D
CALSCALE:GREGORIAN
BEGIN:VEVENT
DTSTART:20060418T223000Z
DTEND:20060418T223000Z
X-MICROSOFT-CDO-ALLDAYEVENT:FALSE
SUMMARY:The Pink Mystique
DESCRIPTION:Having your annual mammogram doesn't have to be something you dread\, or worse\, avoid.  You can turn it into a reason to pamper yourself as  you do something important to ensure your good health and quality of life.  Join us for an evening of education and pampering as you take the drivers seat in managing your health.\nJoin us for a presentation by Dr. Colleen Madden\, a radiologist in the Hendricks Regional Health Women's Center\, tours and mammogram scheduling plus refreshments\, chair massages\, and hand treatments courtesy of The Hair and I Salon.\n\n\nTuesday\, April 18\, 6:30pm\nHendricks Regional Health Danville\nNo cost to attend\nSpace is limited.  Registration required.\nCall (317) 718-6232 or register online at hendricksregional.org
X-ALT-DESC;FMTTYPE=text/html:Having your annual mammogram doesn't have to be something you dread\, or worse\, avoid.  You can turn it into a reason to pamper yourself as  you do something important to ensure your good health and quality of life.  Join us for an evening of education and pampering as you take the drivers seat in managing your health.\nJoin us for a presentation by Dr. Colleen Madden\, a radiologist in the Hendricks Regional Health Women's Center\, tours and mammogram scheduling plus refreshments\, chair massages\, and hand treatments courtesy of The Hair and I Salon.\n\n\nTuesday\, April 18\, 6:30pm\nHendricks Regional Health Danville\nNo cost to attend\nSpace is limited.  Registration required.\nCall (317) 718-6232 or register online at hendricksregional.org\n
LOCATION:1000 East Main Street\, Danville\, IN 46122 Hendricks Regional Health\, 1000 East Main Street\, Danville. Unravelling Mammogram Mysteries. Join us for an evening of education and pampering as you take the driver's seat in managing your health.
UID:e.2778.173
SEQUENCE:3
DTSTAMP:20260424T173442Z
URL:https://www.brownsburg.com/events/details/the-pink-mystique-04-18-2006-173
END:VEVENT

END:VCALENDAR
