BEGIN:VCALENDAR
VERSION:2.0
PRODID:-//ChamberMaster//Event Calendar 2.0//EN
METHOD:PUBLISH
X-PUBLISHED-TTL:P3D
REFRESH-INTERVAL:P3D
CALSCALE:GREGORIAN
BEGIN:VEVENT
DTSTART:20060615T220000Z
DTEND:20060616T003000Z
X-MICROSOFT-CDO-ALLDAYEVENT:FALSE
SUMMARY:The Power Of One Good Habit--Featuring Zonya Foco of PBS' Health Bites
DESCRIPTION:"The Power of One Good Habit" featuring nutrition expert\, best-selling author and television host (PBS' Health Bites) Zonya Foco is coming to Hendricks County! Learn healthy habits at this nutrition program while enjoying refreshments and spa pampering.\n\nPick one good habit and see what happens! Zonya's philosophy for life-changing healthy eating is to have one good habit that makes a big difference. You can feel your best while avoiding health problems like high cholesterol\, diabetes and heart disease. Learn simple changes that are powerful tools\, along with techniques to help lower your cholesterol\, protect your health and have more energy. Improve your health\, your perspective and your life!\n\nPre-registration ticket price is $12\, or $15 at the door. To pre-register\, call (317)718-6232 or register online at hendricksregional.org. Space is limited.
X-ALT-DESC;FMTTYPE=text/html:"The Power of One Good Habit" featuring nutrition expert\, best-selling author and television host (PBS' Health Bites) Zonya Foco is coming to Hendricks County! Learn healthy habits at this nutrition program while enjoying refreshments and spa pampering.\n\nPick one good habit and see what happens! Zonya's philosophy for life-changing healthy eating is to have one good habit that makes a big difference. You can feel your best while avoiding health problems like high cholesterol\, diabetes and heart disease. Learn simple changes that are powerful tools\, along with techniques to help lower your cholesterol\, protect your health and have more energy. Improve your health\, your perspective and your life!\n\nPre-registration ticket price is $12\, or $15 at the door. To pre-register\, call (317)718-6232 or register online at hendricksregional.org. Space is limited.\n
LOCATION:2353 Hadley Road\, Plainfield\, IN 46168 at Primo's Banquet Hall\, Plainfield. Learn healthy habits while enjoying refreshments and spa pampering. Cost is $12 for those who pre-register or $15 at the door. To pre-register call 718-6232 ir visit hendricksregional.org. Space is limited.
UID:e.2778.226
SEQUENCE:3
DTSTAMP:20260424T161042Z
URL:https://www.brownsburg.com/events/details/the-power-of-one-good-habit-featuring-zonya-foco-of-pbs-health-bites-06-15-2006-226
END:VEVENT

END:VCALENDAR
