BEGIN:VCALENDAR
VERSION:2.0
PRODID:-//ChamberMaster//Event Calendar 2.0//EN
METHOD:PUBLISH
X-PUBLISHED-TTL:P3D
REFRESH-INTERVAL:P3D
CALSCALE:GREGORIAN
BEGIN:VEVENT
DTSTART;VALUE=DATE:20110910
DTEND;VALUE=DATE:20110911
TRANSP:TRANSPARENT
X-MICROSOFT-CDO-ALLDAYEVENT:TRUE
SUMMARY:Third Annual B & O Express
DESCRIPTION:This year's event will be better than ever with new courses (including a portion of the 10K on the paved B&O Trail)\, $150 cash bonuses for winning runners posting a set time\, award certificates from Blue Mile (formerly Running Company) to top three overall winners (male and female) in both races\, medals to top three runners in each age category\, as well as post-race entertainment\, refreshments and free health screenings.  Click\n        here to register by September 5 \n    \n    Event Details\n    \n    \n        All aboard! the 3rd Annual B&O Express 5/10K run & walk to benefit further development of the B&O Trail\, a 65-mile rail-trail from Indianapolis to Illinois! This year's course will take 10K participants along a newly completed 1.5 mile stretch of the B&O Trail. Build a nice head of steam as you enjoy smooth roads with just a bit of elevation in the last stretch of the race. The 5K route has been revamped and improved and also features an end-of-the-route elevation\n        to take you into the station---er\, finish line.\n    \n    Schedule of Events\n    \n    \n        Registration at 7:00am\n\n        10K at 8:00am\n\n        5K at 8:20am\n\n        Awards presented at 9:15am \n        \n\n        \n\n        Stay after the race and visit our free IU Health West Healthy Depot\, complete with refreshments\, live music\, health screenings\, lifestyle tips and fun activities for racers\, fans and family.\n    \n    Awards\n    \n    \n        Blue Mile (formerly The Running Company) will provide gift certificates to top 3 overall finishers (male/female) in both races\, and commemorative medals will be awarded to the top 3 finishers in each age group (male/female) in both races. \n        \n\n        \n\n        Age Groups: under 15\, 15-19\, 20-24\,...\, 70+\n\n        \n\n        New this year\, $150 cash bonuses for 10K male and female winners at the Elite (under 40) and Master (40+) level who make like a bullet train and post extraordinary winning times:\n\n        \n\n        Male 31:00\n\n        Female 36:00\n\n        Master Male 35:00\n\n        Master Female 40:00\n\n        \n\n        Award Certificates: \n        \n\n        5K--$100\, $75\, $50\n\n        10K--$150\, $100\, $75\n    \n    Questions?\n    \n    \n        For more information\, email Joshua Brewster at josbrews@comcast.net.
X-ALT-DESC;FMTTYPE=text/html:<html>\n<head>\n</head>\n<body>\n    <p>\n        <font size="4" face="Calibri">This year's event will be better than ever with new courses (including a portion of the 10K on the paved B&amp\;O Trail)\, $150 cash bonuses for winning runners posting a set time\, award certificates from Blue Mile (formerly Running Company) to top three overall winners (male and female) in both races\, medals to top three runners in each age category\, as well as post-race entertainment\, refreshments and free health screenings.&nbsp\; <a href="https://secure.getmeregistered.com/get_information.php?event_id=4989">Click\n        here to register by September 5</a></font> \n    </p>\n    <h2><font face="Calibri">Event Details</font>\n    </h2>\n    <p class="information">\n        <font size="4" face="Calibri">All aboard! the 3rd Annual B&amp\;O Express 5/10K run &amp\; walk to benefit further development of the B&amp\;O Trail\, a 65-mile rail-trail from Indianapolis to Illinois! This year's course will take 10K participants along a newly completed 1.5 mile stretch of the B&amp\;O Trail. Build a nice head of steam as you enjoy smooth roads with just a bit of elevation in the last stretch of the race. The 5K route has been revamped and improved and also features an end-of-the-route elevation\n        to take you into the station---er\, finish line.</font>\n    </p>\n    <h2><font face="Calibri">Schedule of Events</font>\n    </h2>\n    <p class="information">\n        <font size="4" face="Calibri">Registration at 7:00am<br />\n        10K at 8:00am<br />\n        5K at 8:20am<br />\n        Awards presented at 9:15am \n        <br />\n        <br />\n        Stay after the race and visit our free IU Health West Healthy Depot\, complete with refreshments\, live music\, health screenings\, lifestyle tips and fun activities for racers\, fans and family.</font>\n    </p>\n    <h2><font face="Calibri">Awards</font>\n    </h2>\n    <p class="information">\n        <font size="4" face="Calibri">Blue Mile (formerly The Running Company) will provide gift certificates to top 3 overall finishers (male/female) in both races\, and commemorative medals will be awarded to the top 3 finishers in each age group (male/female) in both races. \n        <br />\n        <br />\n        Age Groups: under 15\, 15-19\, 20-24\,...\, 70+<br />\n        <br />\n        New this year\, $150 cash bonuses for 10K male and female winners at the Elite (under 40) and Master (40+) level who make like a bullet train and post extraordinary winning times:<br />\n        <br />\n        Male 31:00<br />\n        Female 36:00<br />\n        Master Male 35:00<br />\n        Master Female 40:00<br />\n        <br />\n        Award Certificates: \n        <br />\n        5K--$100\, $75\, $50<br />\n        10K--$150\, $100\, $75</font>\n    </p>\n    <h2><font face="Calibri">Questions?</font>\n    </h2>\n    <p class="information">\n        <font size="4" face="Calibri">For more information\, email Joshua Brewster at </font><a href="mailto:josbrews@comcast.net"><font size="4" face="Calibri">josbrews@comcast.net</font></a><font size="4" face="Calibri">.</font>\n    </p>\n</body>\n</html>\n
LOCATION:
UID:e.2778.1192
SEQUENCE:3
DTSTAMP:20260420T161820Z
URL:https://www.brownsburg.com/events/details/third-annual-b-o-express-09-10-2011-1192
END:VEVENT

END:VCALENDAR
