BEGIN:VCALENDAR
VERSION:2.0
PRODID:-//ChamberMaster//Event Calendar 2.0//EN
METHOD:PUBLISH
X-PUBLISHED-TTL:P3D
REFRESH-INTERVAL:P3D
CALSCALE:GREGORIAN
BEGIN:VEVENT
DTSTART:20051111T170000Z
DTEND:20051112T000000Z
X-MICROSOFT-CDO-ALLDAYEVENT:FALSE
SUMMARY:Third Annual Barbara Ford Blood and Bone Marrow Drive
DESCRIPTION:The Third Annual Barbara Ford Blood and Bone Marrow Drive will be held Friday\, November 11\, 2005.  The event will be located at the Hendricks County 4-H Fairgrounds Community Center in Danville from 12:00 noon to 7:00 PM.  Thanks to your support over the last two years\, we have been able to place several hundred on the National Marrow Donor Registry.  Once you are on the registry\, you never need to be tested again.  The need is so critical that out of 30\,000 people who urgently require a transplant\, only 3\,000 will be fortunate enough to find one.\n \nThe most wonderful thing is we have an anonymous donor who will pay the $65.00 testing fee for those who register!  It only takes a few drops of blood from the prick of your finger.  If you need further information regarding this event\, or have questions\, you can email me at Joe@heatandcool.net.\n \nSincerely\, \n \nJoseph Neher
X-ALT-DESC;FMTTYPE=text/html:The Third Annual Barbara Ford Blood and Bone Marrow Drive will be held Friday\, November 11\, 2005.  The event will be located at the Hendricks County 4-H Fairgrounds Community Center in Danville from 12:00 noon to 7:00 PM.  Thanks to your support over the last two years\, we have been able to place several hundred on the National Marrow Donor Registry.  Once you are on the registry\, you never need to be tested again.  The need is so critical that out of 30\,000 people who urgently require a transplant\, only 3\,000 will be fortunate enough to find one.\n \nThe most wonderful thing is we have an anonymous donor who will pay the $65.00 testing fee for those who register!  It only takes a few drops of blood from the prick of your finger.  If you need further information regarding this event\, or have questions\, you can email me at Joe@heatandcool.net.\n \nSincerely\, \n \nJoseph Neher
LOCATION:Hendricks County 4-H Fairgrounds Community Center in Danville
UID:e.2778.56
SEQUENCE:3
DTSTAMP:20260425T013318Z
URL:https://www.brownsburg.com/events/details/third-annual-barbara-ford-blood-and-bone-marrow-drive-11-11-2005-56
END:VEVENT

END:VCALENDAR
