BEGIN:VCALENDAR
VERSION:2.0
PRODID:-//ChamberMaster//Event Calendar 2.0//EN
METHOD:PUBLISH
X-PUBLISHED-TTL:P3D
REFRESH-INTERVAL:P3D
CALSCALE:GREGORIAN
BEGIN:VEVENT
DTSTART;VALUE=DATE:20060511
DTEND;VALUE=DATE:20060526
TRANSP:TRANSPARENT
X-MICROSOFT-CDO-ALLDAYEVENT:TRUE
SUMMARY:Thursday Night Slick Tire Test and Tunes
DESCRIPTION:
X-ALT-DESC;FMTTYPE=text/html:
LOCATION:10267 East U.S. Highway 136\, Indianapolis\, IN 46234 10267 East U.S. Hwy 136. Every Thurday night in May except the first week of the month.
UID:e.2778.141
SEQUENCE:3
DTSTAMP:20260424T160621Z
URL:https://www.brownsburg.com/events/details/thursday-night-slick-tire-test-and-tunes-05-11-2006-141
END:VEVENT

END:VCALENDAR
