BEGIN:VCALENDAR
VERSION:2.0
PRODID:-//ChamberMaster//Event Calendar 2.0//EN
METHOD:PUBLISH
X-PUBLISHED-TTL:P3D
REFRESH-INTERVAL:P3D
CALSCALE:GREGORIAN
BEGIN:VEVENT
DTSTART;VALUE=DATE:20060907
DTEND;VALUE=DATE:20060908
TRANSP:TRANSPARENT
X-MICROSOFT-CDO-ALLDAYEVENT:TRUE
SUMMARY:Thursday Night Slick Tire Test and Tunes
DESCRIPTION:
X-ALT-DESC;FMTTYPE=text/html:
LOCATION:10267 East U.S. Highway 136\, Indianapolis\, IN 46234 10267 East U.S. Hwy 136. Last night of the year! September 7th.
UID:e.2778.145
SEQUENCE:3
DTSTAMP:20260424T113329Z
URL:https://www.brownsburg.com/events/details/thursday-night-slick-tire-test-and-tunes-09-07-2006-145
END:VEVENT

END:VCALENDAR
