BEGIN:VCALENDAR
VERSION:2.0
PRODID:-//ChamberMaster//Event Calendar 2.0//EN
METHOD:PUBLISH
X-PUBLISHED-TTL:P3D
REFRESH-INTERVAL:P3D
CALSCALE:GREGORIAN
BEGIN:VEVENT
DTSTART;VALUE=DATE:20061009
DTEND;VALUE=DATE:20061014
TRANSP:TRANSPARENT
X-MICROSOFT-CDO-ALLDAYEVENT:TRUE
SUMMARY:Town of Brownsburg Photo Contest
DESCRIPTION:
X-ALT-DESC;FMTTYPE=text/html:
LOCATION:111 Eastern Avenue\, Brownsburg\, IN 46112 at the Community and Rec Center\; 111 Eastern Avenue. Do you have pictures from around the Town of Brownsburg that you would like to show off? Submit your favorite family or event photo to the Brownsburg Community and Recreation Center to be put on display. Then don't forget to stop by and vote between October 17-30. Winners will be announced October 31st at 3pm. For more information contact the parks department at 858-4172.
UID:e.2778.333
SEQUENCE:3
DTSTAMP:20260424T085807Z
URL:https://www.brownsburg.com/events/details/town-of-brownsburg-photo-contest-10-09-2006-333
END:VEVENT

END:VCALENDAR
