BEGIN:VCALENDAR
VERSION:2.0
PRODID:-//ChamberMaster//Event Calendar 2.0//EN
METHOD:PUBLISH
X-PUBLISHED-TTL:P3D
REFRESH-INTERVAL:P3D
CALSCALE:GREGORIAN
BEGIN:VEVENT
DTSTART:20080329T120000Z
DTEND:20080329T170000Z
X-MICROSOFT-CDO-ALLDAYEVENT:FALSE
SUMMARY:Tox-Away Day
DESCRIPTION:Visit their website http://www.hendrickssolidwaste.com or call the Solid Waste Management office at 745-9130 for more information.  Additional Tox-Away days will be held in June\, August and October.
X-ALT-DESC;FMTTYPE=text/html:Visit their website http://www.hendrickssolidwaste.com or call the Solid Waste Management office at 745-9130 for more information.  Additional Tox-Away days will be held in June\, August and October.
LOCATION:at Brownsburg High School.
UID:e.2778.523
SEQUENCE:3
DTSTAMP:20260423T082500Z
URL:https://www.brownsburg.com/events/details/tox-away-day-03-29-2008-523
END:VEVENT

END:VCALENDAR
