BEGIN:VCALENDAR
VERSION:2.0
PRODID:-//ChamberMaster//Event Calendar 2.0//EN
METHOD:PUBLISH
X-PUBLISHED-TTL:P3D
REFRESH-INTERVAL:P3D
CALSCALE:GREGORIAN
BEGIN:VEVENT
DTSTART;VALUE=DATE:20060627
DTEND;VALUE=DATE:20060628
TRANSP:TRANSPARENT
X-MICROSOFT-CDO-ALLDAYEVENT:TRUE
SUMMARY:Tuesday Night Street Legal Racing Series
DESCRIPTION:
X-ALT-DESC;FMTTYPE=text/html:
LOCATION:10267 East U.S. Highway 136\, Indianapolis\, IN 46234 10267 East U.S. Hwy 136. Every Tuesday night in June.
UID:e.2778.132
SEQUENCE:3
DTSTAMP:20260424T143028Z
URL:https://www.brownsburg.com/events/details/tuesday-night-street-legal-racing-series-06-27-2006-132
END:VEVENT

END:VCALENDAR
