BEGIN:VCALENDAR
VERSION:2.0
PRODID:-//ChamberMaster//Event Calendar 2.0//EN
METHOD:PUBLISH
X-PUBLISHED-TTL:P3D
REFRESH-INTERVAL:P3D
CALSCALE:GREGORIAN
BEGIN:VEVENT
DTSTART;VALUE=DATE:20060815
DTEND;VALUE=DATE:20060816
TRANSP:TRANSPARENT
X-MICROSOFT-CDO-ALLDAYEVENT:TRUE
SUMMARY:Tuesday Night Street Legal Racing Series
DESCRIPTION:
X-ALT-DESC;FMTTYPE=text/html:
LOCATION:10267 East U.S. Highway 136\, Indianapolis\, IN 46234 10267 East U.S. Hwy 136. On Tuesday Aug. 8 & 15th only this month.
UID:e.2778.134
SEQUENCE:3
DTSTAMP:20260424T125731Z
URL:https://www.brownsburg.com/events/details/tuesday-night-street-legal-racing-series-08-15-2006-134
END:VEVENT

END:VCALENDAR
