BEGIN:VCALENDAR
VERSION:2.0
PRODID:-//ChamberMaster//Event Calendar 2.0//EN
METHOD:PUBLISH
X-PUBLISHED-TTL:P3D
REFRESH-INTERVAL:P3D
CALSCALE:GREGORIAN
BEGIN:VEVENT
DTSTART;VALUE=DATE:20060912
DTEND;VALUE=DATE:20060927
TRANSP:TRANSPARENT
X-MICROSOFT-CDO-ALLDAYEVENT:TRUE
SUMMARY:Tuesday Night Street Legal Racing Series
DESCRIPTION:
X-ALT-DESC;FMTTYPE=text/html:
LOCATION:10267 East U.S. Highway 136\, Indianapolis\, IN 46234 10267 East U.S. Hwy 136. All Tuesdays in September except the first week of the month.
UID:e.2778.135
SEQUENCE:3
DTSTAMP:20260424T100657Z
URL:https://www.brownsburg.com/events/details/tuesday-night-street-legal-racing-series-09-12-2006-135
END:VEVENT

END:VCALENDAR
