BEGIN:VCALENDAR
VERSION:2.0
PRODID:-//ChamberMaster//Event Calendar 2.0//EN
METHOD:PUBLISH
X-PUBLISHED-TTL:P3D
REFRESH-INTERVAL:P3D
CALSCALE:GREGORIAN
BEGIN:VEVENT
DTSTART;VALUE=DATE:20061017
DTEND;VALUE=DATE:20061031
TRANSP:TRANSPARENT
X-MICROSOFT-CDO-ALLDAYEVENT:TRUE
SUMMARY:Tuesday Night Street Legal Racing Series
DESCRIPTION:
X-ALT-DESC;FMTTYPE=text/html:
LOCATION:10267 East U.S. Highway 136\, Indianapolis\, IN 46234 10267 East U.S. Hwy 136. Every Tuesday night in October\, except the last week and it will be on Monday the 30th that week.
UID:e.2778.136
SEQUENCE:3
DTSTAMP:20260424T085950Z
URL:https://www.brownsburg.com/events/details/tuesday-night-street-legal-racing-series-10-17-2006-136
END:VEVENT

END:VCALENDAR
