BEGIN:VCALENDAR
VERSION:2.0
PRODID:-//ChamberMaster//Event Calendar 2.0//EN
METHOD:PUBLISH
X-PUBLISHED-TTL:P3D
REFRESH-INTERVAL:P3D
CALSCALE:GREGORIAN
BEGIN:VEVENT
DTSTART;VALUE=DATE:20060812
DTEND;VALUE=DATE:20060813
TRANSP:TRANSPARENT
X-MICROSOFT-CDO-ALLDAYEVENT:TRUE
SUMMARY:UAW Family Labor Night with the Indy United Racing League
DESCRIPTION:
X-ALT-DESC;FMTTYPE=text/html:
LOCATION:10267 East U.S. Highway 136\, Indianapolis\, IN 46234 10267 East U.S. Hwy. 136
UID:e.2778.109
SEQUENCE:3
DTSTAMP:20260424T125945Z
URL:https://www.brownsburg.com/events/details/uaw-family-labor-night-with-the-indy-united-racing-league-08-12-2006-109
END:VEVENT

END:VCALENDAR
