BEGIN:VCALENDAR
VERSION:2.0
PRODID:-//ChamberMaster//Event Calendar 2.0//EN
METHOD:PUBLISH
X-PUBLISHED-TTL:P3D
REFRESH-INTERVAL:P3D
CALSCALE:GREGORIAN
BEGIN:VEVENT
DTSTART;VALUE=DATE:20051001
DTEND;VALUE=DATE:20051002
TRANSP:TRANSPARENT
X-MICROSOFT-CDO-ALLDAYEVENT:TRUE
SUMMARY:Volktober Fest - All Volkswagens
DESCRIPTION:Calling all Volkswagon owners & lovers!  Be a part of the show or just come out to see the beautiful 'bugs'!
X-ALT-DESC;FMTTYPE=text/html:Calling all Volkswagon owners & lovers!  Be a part of the show or just come out to see the beautiful 'bugs'!
LOCATION:200 N. Green Street\, Brownsburg\, IN 46112 Arbuckle Acres Park\, 200 N. Green Street.
UID:e.2778.35
SEQUENCE:3
DTSTAMP:20260425T031052Z
URL:https://www.brownsburg.com/events/details/volktober-fest-all-volkswagens-10-01-2005-35
END:VEVENT

END:VCALENDAR
