BEGIN:VCALENDAR
VERSION:2.0
PRODID:-//ChamberMaster//Event Calendar 2.0//EN
METHOD:PUBLISH
X-PUBLISHED-TTL:P3D
REFRESH-INTERVAL:P3D
CALSCALE:GREGORIAN
BEGIN:VEVENT
DTSTART;VALUE=DATE:20060401
DTEND;VALUE=DATE:20060402
TRANSP:TRANSPARENT
X-MICROSOFT-CDO-ALLDAYEVENT:TRUE
SUMMARY:VP Fuels E.T. Bracket Racing SEries Open Test and Tune
DESCRIPTION:
X-ALT-DESC;FMTTYPE=text/html:
LOCATION:10267 East U.S. Highway 136\, Indianapolis\, IN 46234 10267 East U.S. Hwy 136
UID:e.2778.128
SEQUENCE:3
DTSTAMP:20260424T173546Z
URL:https://www.brownsburg.com/events/details/vp-fuels-e-t-bracket-racing-series-open-test-and-tune-04-01-2006-128
END:VEVENT

END:VCALENDAR
