BEGIN:VCALENDAR
VERSION:2.0
PRODID:-//ChamberMaster//Event Calendar 2.0//EN
METHOD:PUBLISH
X-PUBLISHED-TTL:P3D
REFRESH-INTERVAL:P3D
CALSCALE:GREGORIAN
BEGIN:VEVENT
DTSTART;VALUE=DATE:20060820
DTEND;VALUE=DATE:20060821
TRANSP:TRANSPARENT
X-MICROSOFT-CDO-ALLDAYEVENT:TRUE
SUMMARY:VP Fuels E.T. Bracket Series Racing
DESCRIPTION:
X-ALT-DESC;FMTTYPE=text/html:
LOCATION:10267 East U.S. Highway 136\, Indianapolis\, IN 46234 10267 East U.S. Hwy 136
UID:e.2778.149
SEQUENCE:3
DTSTAMP:20260424T125131Z
URL:https://www.brownsburg.com/events/details/vp-fuels-e-t-bracket-series-racing-08-20-2006-149
END:VEVENT

END:VCALENDAR
