BEGIN:VCALENDAR
VERSION:2.0
PRODID:-//ChamberMaster//Event Calendar 2.0//EN
METHOD:PUBLISH
X-PUBLISHED-TTL:P3D
REFRESH-INTERVAL:P3D
CALSCALE:GREGORIAN
BEGIN:VEVENT
DTSTART:20060930T120000Z
DTEND:20060930T150000Z
X-MICROSOFT-CDO-ALLDAYEVENT:FALSE
SUMMARY:''Walk Me Home'' 5K Walk/8K Run
DESCRIPTION:
X-ALT-DESC;FMTTYPE=text/html:
LOCATION:at Hummel Park\, Plainfield. Call 745-1496 for more information on log onto shelteringwings.org.
UID:e.2778.266
SEQUENCE:3
DTSTAMP:20260424T100159Z
URL:https://www.brownsburg.com/events/details/walk-me-home-5k-walk-8k-run-09-30-2006-266
END:VEVENT

END:VCALENDAR
