BEGIN:VCALENDAR
VERSION:2.0
PRODID:-//ChamberMaster//Event Calendar 2.0//EN
METHOD:PUBLISH
X-PUBLISHED-TTL:P3D
REFRESH-INTERVAL:P3D
CALSCALE:GREGORIAN
BEGIN:VEVENT
DTSTART:20080308T160000Z
DTEND:20080308T160000Z
X-MICROSOFT-CDO-ALLDAYEVENT:FALSE
SUMMARY:Weichert Home Buyers Seminar
DESCRIPTION:
X-ALT-DESC;FMTTYPE=text/html:
LOCATION:111 E. Main Street\, Brownsburg\, IN 46112 RSVP by March 6\, 2008 by calling 317-852-2247.
UID:e.2778.528
SEQUENCE:3
DTSTAMP:20260423T082819Z
URL:https://www.brownsburg.com/events/details/weichert-home-buyers-seminar-03-08-2008-528
END:VEVENT

END:VCALENDAR
