BEGIN:VCALENDAR
VERSION:2.0
PRODID:-//ChamberMaster//Event Calendar 2.0//EN
METHOD:PUBLISH
X-PUBLISHED-TTL:P3D
REFRESH-INTERVAL:P3D
CALSCALE:GREGORIAN
BEGIN:VEVENT
DTSTART:20081021T230000Z
DTEND:20081021T230000Z
X-MICROSOFT-CDO-ALLDAYEVENT:FALSE
SUMMARY:Weichert Realtors Weekly Career Night
DESCRIPTION:Questions we will answer:\n\nWhy a Career in Real Estate?\n\nWhy Weichert\, Realtors?\n\nWhy Weichert\, Realtors - Hometown Real Estate?\n\nHow Do I Get Started?\n\nAND MOST IMPORTANT OF ALL:  Your Questions?\n\n\nDIRECTIONS:  Just east of the intersection of Green and Main on the South side of the street.
X-ALT-DESC;FMTTYPE=text/html:Questions we will answer:\n\nWhy a Career in Real Estate?\n\nWhy Weichert\, Realtors?\n\nWhy Weichert\, Realtors - Hometown Real Estate?\n\nHow Do I Get Started?\n\nAND MOST IMPORTANT OF ALL:  Your Questions?\n\n\nDIRECTIONS:  Just east of the intersection of Green and Main on the South side of the street.
LOCATION:111 E. Main Street\, Brownsburg\, IN 46112 At Office - for more information please call 317-852-2247
UID:e.2778.600
SEQUENCE:3
DTSTAMP:20260422T220125Z
URL:https://www.brownsburg.com/events/details/weichert-realtors-weekly-career-night-10-21-2008-600
END:VEVENT

END:VCALENDAR
