BEGIN:VCALENDAR
VERSION:2.0
PRODID:-//ChamberMaster//Event Calendar 2.0//EN
METHOD:PUBLISH
X-PUBLISHED-TTL:P3D
REFRESH-INTERVAL:P3D
CALSCALE:GREGORIAN
BEGIN:VEVENT
DTSTART:20100712T223000Z
DTEND:20100812T003000Z
X-MICROSOFT-CDO-ALLDAYEVENT:FALSE
SUMMARY:West District Branch YMCA Martial Arts Youth and Adult Classes
DESCRIPTION:Martial Arts are a physical discipline shaped by East Asian philosophical concepts. Focus is on increasing physical fitness\, building self confidence\, and respect for self and others. Karate uses a variety of techniques\, with the focus on blocks and strikes. Registration: Until session ends Summer I June 7 - July 7\, 2010 Summer II July 12 - August 11\, 2010 Class: Monday and Wednesday at Ben Davis High School Cost per person: $63.00 Class schedule by division: Karate Kids I (Grades 1-3) 6:30 - 7:15pm Karate Kids II (Grades 4-7) 7:15 - 8:30pm Adult Karate (Ages 13 & Up) 7:15 - 8:30pm
X-ALT-DESC;FMTTYPE=text/html:Martial Arts are a physical discipline shaped by East Asian philosophical concepts. Focus is on increasing physical fitness\, building self confidence\, and respect for self and others. Karate uses a variety of techniques\, with the focus on blocks and strikes. Registration: Until session ends Summer I June 7 - July 7\, 2010 Summer II July 12 - August 11\, 2010 Class: Monday and Wednesday at Ben Davis High School Cost per person: $63.00 Class schedule by division: Karate Kids I (Grades 1-3) 6:30 - 7:15pm Karate Kids II (Grades 4-7) 7:15 - 8:30pm Adult Karate (Ages 13 & Up) 7:15 - 8:30pm \n
LOCATION:Ben Davis High School\, Indianapolis\, IN 46214
UID:e.2778.980
SEQUENCE:3
DTSTAMP:20260421T113817Z
URL:https://www.brownsburg.com/events/details/west-district-branch-ymca-martial-arts-youth-and-adult-classes-07-12-2010-980
END:VEVENT

END:VCALENDAR
