BEGIN:VCALENDAR
VERSION:2.0
PRODID:-//ChamberMaster//Event Calendar 2.0//EN
METHOD:PUBLISH
X-PUBLISHED-TTL:P3D
REFRESH-INTERVAL:P3D
CALSCALE:GREGORIAN
BEGIN:VEVENT
DTSTART:20100714T220000Z
DTEND:20100715T000000Z
X-MICROSOFT-CDO-ALLDAYEVENT:FALSE
SUMMARY:West District Branch YMCA Pool Party
DESCRIPTION:Come splash the evening away at the West District's 2nd Annual pool party! Join us on Wednesday\, July 14\, 2010 for ''OUR'' largest pool party at Clarks Creek Elementary in Plainfield. The event is free and there will be games and door prizes. Dinner will be provided by Qdoba\, between 6 - 7:30pm or while supplies last\, for a $5 donation per person to the Strong Kids Campaign. Children under 2 eat free. Please bring your suits and towels! For more information contact the West District Branch YMCA office at 317-484-9622.
X-ALT-DESC;FMTTYPE=text/html:Come splash the evening away at the West District's 2nd Annual pool party! Join us on Wednesday\, July 14\, 2010 for ''OUR'' largest pool party at Clarks Creek Elementary in Plainfield. The event is free and there will be games and door prizes. Dinner will be provided by Qdoba\, between 6 - 7:30pm or while supplies last\, for a $5 donation per person to the Strong Kids Campaign. Children under 2 eat free. Please bring your suits and towels! For more information contact the West District Branch YMCA office at 317-484-9622. \n
LOCATION:Clarks Creek Elementary\, Plainfield\, IN 46168
UID:e.2778.978
SEQUENCE:3
DTSTAMP:20260421T144649Z
URL:https://www.brownsburg.com/events/details/west-district-branch-ymca-pool-party-07-14-2010-978
END:VEVENT

END:VCALENDAR
